{
 "version": 1.0,
 "tileBundlesPath": "./tile",
 "tileInfo": {
  "spatialReference": {
   "wkt": "PROJCS[\"NAD_1983_2011_StatePlane_Iowa_North_FIPS_1401_Ft_US\",GEOGCS[\"GCS_NAD83_2011\",DATUM[\"D_NAD_1983_2011\",SPHEROID[\"GRS_1980\",6378137.0,298.257222101]],PRIMEM[\"Greenwich\",0.0],UNIT[\"Degree\",0.0174532925199433]],PROJECTION[\"Lambert_Conformal_Conic\"],PARAMETER[\"False_Easting\",4921250.0],PARAMETER[\"False_Northing\",3280833.3333],PARAMETER[\"Central_Meridian\",-93.5],PARAMETER[\"Standard_Parallel_1\",42.0666666666667],PARAMETER[\"Standard_Parallel_2\",43.2666666666667],PARAMETER[\"Latitude_Of_Origin\",41.5],UNIT[\"Foot_US\",0.3048006096012192]]"
  },
  "origin": {
   "x": -115419000,
   "y": 1.4678289999999997E8
  },
  "rows": 256,
  "cols": 256,
  "dpi": 96,
  "lods": [
   {
    "level": 0,
    "resolution": 217.01388888888889,
    "scale": 250000
   },
   {
    "level": 1,
    "resolution": 108.50694444444444,
    "scale": 125000
   },
   {
    "level": 2,
    "resolution": 54.25347222222222,
    "scale": 62500
   },
   {
    "level": 3,
    "resolution": 27.12673611111111,
    "scale": 31250
   },
   {
    "level": 4,
    "resolution": 13.563368055555555,
    "scale": 15625
   },
   {
    "level": 5,
    "resolution": 6.781684027777778,
    "scale": 7812.5
   },
   {
    "level": 6,
    "resolution": 3.390842013888889,
    "scale": 3906.25
   },
   {
    "level": 7,
    "resolution": 1.6954210069444444,
    "scale": 1953.125
   },
   {
    "level": 8,
    "resolution": 0.8477105034722222,
    "scale": 976.5625
   },
   {
    "level": 9,
    "resolution": 0.4238552517361111,
    "scale": 488.28125
   },
   {
    "level": 10,
    "resolution": 0.21192762586805555,
    "scale": 244.140625
   }
  ],
  "format": "MIXED",
  "compressionQuality": 75,
  "bandCount": 1,
  "lercError": 0,
  "storageFormat": "esriMapCacheStorageModeCompactV2",
  "packetSize": 128
 },
 "storageInfo": {
  "packetSize": 128,
  "storageFormat": "esriMapCacheStorageModeCompactV2"
 },
 "tileImageInfo": {
  "format": "MIXED",
  "compressionQuality": 75,
  "bandCount": 1,
  "lercError": 0
 },
 "name": "ExportTile",
 "minLOD": 0,
 "maxLOD": 10,
 "spatialReference": {
  "wkt": "PROJCS[\"NAD_1983_2011_StatePlane_Iowa_North_FIPS_1401_Ft_US\",GEOGCS[\"GCS_NAD83_2011\",DATUM[\"D_NAD_1983_2011\",SPHEROID[\"GRS_1980\",6378137.0,298.257222101]],PRIMEM[\"Greenwich\",0.0],UNIT[\"Degree\",0.0174532925199433]],PROJECTION[\"Lambert_Conformal_Conic\"],PARAMETER[\"False_Easting\",4921250.0],PARAMETER[\"False_Northing\",3280833.3333],PARAMETER[\"Central_Meridian\",-93.5],PARAMETER[\"Standard_Parallel_1\",42.0666666666667],PARAMETER[\"Standard_Parallel_2\",43.2666666666667],PARAMETER[\"Latitude_Of_Origin\",41.5],UNIT[\"Foot_US\",0.3048006096012192]]"
 },
 "units": "esriFeet",
 "serviceDescription": "",
 "resampling": true,
 "initialExtent": {
  "xmin": 4907673.719618052,
  "ymin": 3779714.0920003057,
  "xmax": 5061123.7318250835,
  "ymax": 3933164.104207337,
  "spatialReference": {
   "wkt": "PROJCS[\"NAD_1983_2011_StatePlane_Iowa_North_FIPS_1401_Ft_US\",GEOGCS[\"GCS_NAD83_2011\",DATUM[\"D_NAD_1983_2011\",SPHEROID[\"GRS_1980\",6378137.0,298.257222101]],PRIMEM[\"Greenwich\",0.0],UNIT[\"Degree\",0.0174532925199433]],PROJECTION[\"Lambert_Conformal_Conic\"],PARAMETER[\"False_Easting\",4921250.0],PARAMETER[\"False_Northing\",3280833.3333],PARAMETER[\"Central_Meridian\",-93.5],PARAMETER[\"Standard_Parallel_1\",42.0666666666667],PARAMETER[\"Standard_Parallel_2\",43.2666666666667],PARAMETER[\"Latitude_Of_Origin\",41.5],UNIT[\"Foot_US\",0.3048006096012192]]"
  }
 },
 "fullExtent": {
  "xmin": 4907673.719618052,
  "ymin": 3779714.0920003057,
  "xmax": 5061123.7318250835,
  "ymax": 3933164.104207337,
  "spatialReference": {
   "wkt": "PROJCS[\"NAD_1983_2011_StatePlane_Iowa_North_FIPS_1401_Ft_US\",GEOGCS[\"GCS_NAD83_2011\",DATUM[\"D_NAD_1983_2011\",SPHEROID[\"GRS_1980\",6378137.0,298.257222101]],PRIMEM[\"Greenwich\",0.0],UNIT[\"Degree\",0.0174532925199433]],PROJECTION[\"Lambert_Conformal_Conic\"],PARAMETER[\"False_Easting\",4921250.0],PARAMETER[\"False_Northing\",3280833.3333],PARAMETER[\"Central_Meridian\",-93.5],PARAMETER[\"Standard_Parallel_1\",42.0666666666667],PARAMETER[\"Standard_Parallel_2\",43.2666666666667],PARAMETER[\"Latitude_Of_Origin\",41.5],UNIT[\"Foot_US\",0.3048006096012192]]"
  }
 },
 "minScale": 250000,
 "maxScale": 244.140625,
 "exportTilesAllowed": true,
 "maxExportTilesCount": 100000,
 "currentVersion": 11.2,
 "mapName": "ExportTile",
 "singleFusedMapCache": true,
 "type": "MapServer",
 "supportedExtensions": "",
 "capabilities": "TilesOnly,Tilemap",
 "serviceItemId": "0d3b91ed436240259a04026a08036aa8"
}
