{
 "version": 1.0,
 "tileBundlesPath": "./tile",
 "tileInfo": {
  "spatialReference": {
   "wkid": 103045,
   "latestWkid": 6463
  },
  "origin": {
   "x": -115419000,
   "y": 1.4678289999999997E8
  },
  "rows": 256,
  "cols": 256,
  "dpi": 96,
  "lods": [
   {
    "level": 0,
    "resolution": 47.74305555555555,
    "scale": 55000
   },
   {
    "level": 1,
    "resolution": 30.381944444444443,
    "scale": 35000
   },
   {
    "level": 2,
    "resolution": 13.888888888888888,
    "scale": 16000
   },
   {
    "level": 3,
    "resolution": 7.8125,
    "scale": 9000
   },
   {
    "level": 4,
    "resolution": 2.6041666666666665,
    "scale": 3000
   },
   {
    "level": 5,
    "resolution": 0.8680555555555555,
    "scale": 1000
   },
   {
    "level": 6,
    "resolution": 0.43402777777777773,
    "scale": 500
   }
  ],
  "format": "MIXED",
  "compressionQuality": 75,
  "bandCount": 1,
  "lercError": 0,
  "storageFormat": "esriMapCacheStorageModeCompactV2",
  "packetSize": 128
 },
 "storageInfo": {
  "packetSize": 128,
  "storageFormat": "esriMapCacheStorageModeCompactV2"
 },
 "tileImageInfo": {
  "format": "MIXED",
  "compressionQuality": 75,
  "bandCount": 1,
  "lercError": 0
 },
 "name": "OutPut Tile 2",
 "minLOD": 0,
 "maxLOD": 6,
 "spatialReference": {
  "wkid": 103045,
  "latestWkid": 6463
 },
 "units": "esriFeet",
 "serviceDescription": "",
 "resampling": true,
 "initialExtent": {
  "xmin": 4965713.107638881,
  "ymin": 3849912.1527777743,
  "xmax": 5050342.881944437,
  "ymax": 3913732.8993055522,
  "spatialReference": {
   "wkid": 103045,
   "latestWkid": 6463
  }
 },
 "fullExtent": {
  "xmin": 4965713.107638881,
  "ymin": 3849912.1527777743,
  "xmax": 5050342.881944437,
  "ymax": 3913732.8993055522,
  "spatialReference": {
   "wkid": 103045,
   "latestWkid": 6463
  }
 },
 "minScale": 55000,
 "maxScale": 500,
 "exportTilesAllowed": false,
 "maxExportTilesCount": 0,
 "currentVersion": 11.2,
 "mapName": "OutPut Tile 2",
 "singleFusedMapCache": true,
 "type": "MapServer",
 "supportedExtensions": "",
 "capabilities": "TilesOnly,Tilemap",
 "serviceItemId": "b3b70994e7af4faf95180b1da8b93e63"
}
